BEGIN:VCALENDAR
VERSION:2.0
PRODID:-//DJ Sonny Productions - ECPv6.15.12.2//NONSGML v1.0//EN
CALSCALE:GREGORIAN
METHOD:PUBLISH
X-ORIGINAL-URL:https://djsonnyproductions.com
X-WR-CALDESC:Events for DJ Sonny Productions
REFRESH-INTERVAL;VALUE=DURATION:PT1H
X-Robots-Tag:noindex
X-PUBLISHED-TTL:PT1H
BEGIN:VTIMEZONE
TZID:UTC
BEGIN:STANDARD
TZOFFSETFROM:+0000
TZOFFSETTO:+0000
TZNAME:UTC
DTSTART:20140101T000000
END:STANDARD
END:VTIMEZONE
BEGIN:VEVENT
DTSTART;TZID=UTC:20150801T070000
DTEND;TZID=UTC:20151101T170000
DTSTAMP:20260423T151001
CREATED:20150926T160738Z
LAST-MODIFIED:20151012T172643Z
UID:1042-1438412400-1446397200@djsonnyproductions.com
SUMMARY:NNKB Recital - 2014
DESCRIPTION:
URL:https://djsonnyproductions.com/event/past-events-5/
LOCATION:Atlanta\, USA
CATEGORIES:All Events,Past Events,Successful Events
ATTACH;FMTTYPE=image/jpeg:https://djsonnyproductions.com/wp-content/uploads/2015/09/NNKB1.jpg
END:VEVENT
BEGIN:VEVENT
DTSTART;TZID=UTC:20150520T170000
DTEND;TZID=UTC:20151002T230000
DTSTAMP:20260423T151001
CREATED:20150926T153513Z
LAST-MODIFIED:20150929T012319Z
UID:1028-1432141200-1443826800@djsonnyproductions.com
SUMMARY:GA APPNA - Fashion Show
DESCRIPTION:DJ Sonny Productions  Up lights\, Spot lights\, LED Truss\, HD Screen/Projector\, Ramp Cherography/training by DJ Sonny Production
URL:https://djsonnyproductions.com/event/past-events-3/
LOCATION:Renaissance Atlanta Waverly Hotel & Convention Center\, Georgia\, USA
CATEGORIES:All Events,Past Events,Successful Events
ATTACH;FMTTYPE=image/jpeg:https://djsonnyproductions.com/wp-content/uploads/2015/09/ga-appna.jpg
END:VEVENT
END:VCALENDAR